BEGIN:VCALENDAR
VERSION:2.0
PRODID:-//Faculty of Science and Technology | University of Macau - ECPv6.14.2//NONSGML v1.0//EN
CALSCALE:GREGORIAN
METHOD:PUBLISH
X-ORIGINAL-URL:https://www.fst.um.edu.mo
X-WR-CALDESC:Events for Faculty of Science and Technology | University of Macau
REFRESH-INTERVAL;VALUE=DURATION:PT1H
X-Robots-Tag:noindex
X-PUBLISHED-TTL:PT1H
BEGIN:VTIMEZONE
TZID:Asia/Macau
BEGIN:STANDARD
TZOFFSETFROM:+0800
TZOFFSETTO:+0800
TZNAME:CST
DTSTART:20260101T000000
END:STANDARD
END:VTIMEZONE
BEGIN:VEVENT
DTSTART;TZID=Asia/Macau:20260402T140000
DTEND;TZID=Asia/Macau:20260402T170000
DTSTAMP:20260424T182432
CREATED:20260320T094030Z
LAST-MODIFIED:20260320T094421Z
UID:43518-1775138400-1775149200@www.fst.um.edu.mo
SUMMARY:2026 UM FST Hengqin Cooperation Zone and GBA Technology & Engineering Career and Internship Fair2026 澳門大學科技學院橫琴合作區和大灣區科技及工程就業實習雙選會
DESCRIPTION:
URL:https://www.fst.um.edu.mo/event/2026-um-fst-hengqin-cooperation-zone-and-gba-technology-engineering-career-and-internship-fair/
CATEGORIES:1to3_events,activities,event_list
ATTACH;FMTTYPE=image/jpeg:https://www.fst.um.edu.mo/wp-content/uploads/2026/03/act20260402-scaled.jpg
END:VEVENT
BEGIN:VEVENT
DTSTART;VALUE=DATE:20260318
DTEND;VALUE=DATE:20260319
DTSTAMP:20260424T182432
CREATED:20260225T041047Z
LAST-MODIFIED:20260227T060512Z
UID:42910-1773792000-1773878399@www.fst.um.edu.mo
SUMMARY:Call for Logo Designs – Faculty of Information Science and Computing\, Faculty of Engineering\, and Faculty of Science
DESCRIPTION:
URL:https://www.fst.um.edu.mo/event/faculty-of-information-science-and-computing-faculty-of-engineering-and-faculty-of-science/
CATEGORIES:1to3_events,activities,cee_events,ece_events,eme_events,event_list,math_events,ost_events,pc_events
ATTACH;FMTTYPE=image/jpeg:https://www.fst.um.edu.mo/wp-content/uploads/2026/02/callforlogo.jpg
END:VEVENT
BEGIN:VEVENT
DTSTART;TZID=Asia/Macau:20260313T153000
DTEND;TZID=Asia/Macau:20260313T163000
DTSTAMP:20260424T182432
CREATED:20260304T070110Z
LAST-MODIFIED:20260310T095911Z
UID:43255-1773415800-1773419400@www.fst.um.edu.mo
SUMMARY:FST MO-HQ Distinguished Talk Series - Beyond LLMs: A Multi-Paradigm AI ApproachSpeaker: Prof. Fan Weifei from University of EdinburghHosted by: Prof. Cheng-Zhong XU
DESCRIPTION:
URL:https://www.fst.um.edu.mo/event/fst-mo-hq-distinguished-talk-series-beyond-llms-a-multi-paradigm-ai-approach/
LOCATION:N21-6007
CATEGORIES:1to3_events,event_list,seminarslectures
ATTACH;FMTTYPE=image/jpeg:https://www.fst.um.edu.mo/wp-content/uploads/2026/03/seminar20260313-1.jpg
END:VEVENT
BEGIN:VEVENT
DTSTART;TZID=Asia/Macau:20260214T100000
DTEND;TZID=Asia/Macau:20260214T110000
DTSTAMP:20260424T182432
CREATED:20260213T025105Z
LAST-MODIFIED:20260304T070808Z
UID:42867-1771063200-1771066800@www.fst.um.edu.mo
SUMMARY:FST MO-HQ Distinguished Talk Series – On bi-Lipschitz equivalence of a class of non-conformally flat spheresSpeaker: Prof. Sun-Yung Alice CHANG from Princeton UniversityHosted by: Prof. Chang Feng GUI
DESCRIPTION:   \n  \n 
URL:https://www.fst.um.edu.mo/event/fst-mo-hq-distinguished-talk-series-on-bi-lipschitz-equivalence-of-a-class-of-non-conformally-flat-spheres/
LOCATION:E11-G015
CATEGORIES:1to3_events,event_list,math_events,seminarslectures
ATTACH;FMTTYPE=image/jpeg:https://www.fst.um.edu.mo/wp-content/uploads/2026/02/Distinguished-Talk-of-Faculty-of-Science-and-Technology-25.jpg
END:VEVENT
BEGIN:VEVENT
DTSTART;VALUE=DATE:20260210
DTEND;VALUE=DATE:20260211
DTSTAMP:20260424T182432
CREATED:20260106T093734Z
LAST-MODIFIED:20260227T035044Z
UID:42487-1770681600-1770767999@www.fst.um.edu.mo
SUMMARY:FST Photo & Story Collection Activity
DESCRIPTION:澳門大學科技學院將於2026/2027學年起正式拆分為三個全新學院，標誌著學院發展的新篇章。為致敬科技學院自1989年建院以來在人才培育與科研創新方面的卓越貢獻，我們現正推出「薪火相傳 · 澳門大學科技學院照片收集與故事紀錄」計劃，誠邀您分享與學院相關的舊照片及個人故事。 \n這些珍貴的回憶將用於回顧展覽，並開放予公眾投票選出最喜愛作品。所有參加者將獲贈學院訂製紀念品一份，獲選者更可獲頒授獎狀及出席慶祝晚宴！ \n我們期待您踴躍參與，共同編織科技學院的歷史與未來。 \n\n活動截止日期：2026年2月10日 (星期二)\n提交方式：https://umac.questionpro.com.au/t/ARsWKZR8ju或掃描海報中的二維碼(或參閱附件)\n查詢: 歡迎聯繫Alice Lam alicewmlam@um.edu.mo\n\nThe Faculty of Science and Technology (FST) of the University of Macau will be restructured into three new faculties starting from the academic year 2026/2027\, marking a new chapter in its development. To honor the Faculty’s remarkable contributions to talent development and scientific innovation since its establishment in 1989\, we are launching the “FST Photo & Story Collection Activity” and warmly invite you to share historical photos and personal stories related to the Faculty. \nThese cherished memories will be featured in a retrospective photo exhibition\, and the public will be invited to vote for their favorite entries. All participants will receive a custom-made souvenir\, while selected contributors will be awarded a certificate of recognition and an invitation to a celebratory banquet! \nWe look forward to your active participation in weaving together the past and future of the Faculty. \n\nSubmission Deadline: 10 February 2026 (Tuesday)\nHow to Submit: https://umac.questionpro.com.au/t/ARsWKZR8ju or scan the QR code on the poster\nInquiry: Feel free to contact Ms. Alice Lam (alicewmlam@um.edu.mo)\n\n \n  \n  \n 
URL:https://www.fst.um.edu.mo/event/fst-photo-story-collection-activity/
CATEGORIES:1to3_events,activities,cee_events,ece_events,eme_events,event_list,math_events,ost_events,pc_events
ATTACH;FMTTYPE=image/png:https://www.fst.um.edu.mo/wp-content/uploads/2026/01/10-Feb.png
END:VEVENT
BEGIN:VEVENT
DTSTART;TZID=Asia/Macau:20260122T093000
DTEND;TZID=Asia/Macau:20260122T100000
DTSTAMP:20260424T182432
CREATED:20260115T050423Z
LAST-MODIFIED:20260227T034549Z
UID:42640-1769074200-1769076000@www.fst.um.edu.mo
SUMMARY:FST MO-HQ Distinguished Seminar Series - Approaches to modelling and analysis of sustainable power networksSpeaker: Prof. Jovica V Milanović from The University of ManchesterHosted by: Prof. Hong Cai Zhang
DESCRIPTION:
URL:https://www.fst.um.edu.mo/event/fst-mo-hq-distinguished-seminar-series-approaches-to-modelling-and-analysis-of-sustainable-power-networks/
LOCATION:N21-6007
CATEGORIES:1to3_events,ece_events,event_list,seminarslectures
ATTACH;FMTTYPE=image/jpeg:https://www.fst.um.edu.mo/wp-content/uploads/2026/01/seminar20260122.jpg
END:VEVENT
BEGIN:VEVENT
DTSTART;TZID=Asia/Macau:20260109T150000
DTEND;TZID=Asia/Macau:20260109T160000
DTSTAMP:20260424T182432
CREATED:20251230T033839Z
LAST-MODIFIED:20260227T034740Z
UID:42399-1767970800-1767974400@www.fst.um.edu.mo
SUMMARY:FST MO-HQ Distinguished Talk Series - Intelligent Listening: Extending AI from Vision to Sound and Vibration SensingSpeaker: Prof. Jie ZHANG from University of Science and Technology of ChinaHosted by: Prof. Cheng-Zhong XU
DESCRIPTION:Talk Review 活動回顧\nThe Faculty of Science and Technology of the University of Macau hosted a compelling installment of its FST MO-HQ Distinguished Seminar Series on 9 January 2026 featuring Prof. Jie Zhang\, Chair Professor at the University of Science and Technology of China and esteemed Member of the U.S. National Academy of Engineering. His talk\, “Intelligent Listening: Extending AI from Vision to Sound and Vibration Sensing\,” offered a visionary exploration into one of AI’s most underappreciated frontiers — auditory and vibrational perception. \nProf. Zhang challenged the dominant paradigm in AI that prioritizes vision\, arguing that true environmental understanding requires integrating sound and vibration sensing. He introduced a groundbreaking joint visual-seismic framework capable of detecting minute vibrations — even those as subtle as a pencil breaking — using broadband seismic sensors. This “superhuman hearing” system\, powered by physics-based models and deep learning\, enables real-time monitoring of infrastructure\, transportation systems\, and environmental processes\, with profound implications for robotics\, autonomous driving\, and societal resilience. \nThe seminar attracted around 100 students from diverse academic backgrounds—including computer science\, engineering\, physics\, and environmental studies—as well as faculty and industry professionals. This interdisciplinary audience reflected the broad relevance of Prof. Zhang’s work. His ability to bridge geophysics\, engineering\, and machine learning underscored how cross-domain innovation can yield transformative solutions. \nHosted by Prof. Cheng-Zhong Xu\, the seminar was both technically insightful and accessible. Prof. Zhang’s distinguished track record—founding five high-tech companies and receiving honors such as the EPA STAR Award and SEG Life Membership—lent authority to his forward-looking vision. The talk left attendees inspired by the potential of intelligent acoustic sensing to shape smarter\, safer\, and more sustainable futures. \n澳門大學科技學院於2026年1月9日成功舉辦「科技學院傑出講座系列」，邀請到中國科學技術大學講席教授、美國國家工程院院士張捷教授擔綱主講。他以「智能聆聽：將人工智慧從視覺拓展至聲音與振動感知」(Intelligent Listening: Extending AI from Vision to Sound and Vibration Sensing) 為題，帶領聽眾深入探索人工智慧中長期被忽略卻極具潛力的領域——聽覺與振動感知。 \n張教授指出，當前AI過度側重視覺，但要真正理解環境，必須融合聲音與振動訊號。他介紹了一套開創性的「視覺—地震聯合感知框架」，利用寬頻地震感測器，能偵測極其微弱的振動——甚至細如鉛筆折斷所產生的信號。這套被稱為「超人類聽覺」的系統，結合物理模型與深度學習技術，可實現對基礎設施、交通網絡及自然環境的即時監測，在機器人、自動駕駛和城市韌性建設等領域展現廣闊應用前景。 \n講座吸引了約100位來自計算機科學、工程、物理及環境研究等不同背景的學生，同時也匯聚了多位教師與業界專家，充分體現其研究的高度跨學科價值。張教授巧妙融合地球物理、工程與人工智慧，生動詮釋了跨界創新如何催生突破性解決方案。 \n本次活動由科技學院院長須成忠教授主持，內容深入淺出、啟發思考。張教授不僅學術成就卓著，更曾創辦五家高科技企業，並榮獲美國環保署STAR獎、國際勘探地球物理學家學會（SEG）終身會員等殊榮，其遠見與實踐經驗令在場師生受益良多。 \n科技學院院長須成忠教授介紹張捷教授 Prof. Cheng-Zhong Xu introduced Prof Jie Zhang Prof Zhang delivered talk at UM
URL:https://www.fst.um.edu.mo/event/fst-mo-hq-distinguished-talk-series-intelligent-listening-extending-ai-from-vision-to-sound-and-vibration-sensing/
LOCATION:N21-6007
CATEGORIES:1to3_events,event_list,seminarslectures
ATTACH;FMTTYPE=image/jpeg:https://www.fst.um.edu.mo/wp-content/uploads/2026/01/Distinguished-Talk-of-Faculty-of-Science-and-Technology-20.jpg
END:VEVENT
BEGIN:VEVENT
DTSTART;TZID=Asia/Macau:20260109T110000
DTEND;TZID=Asia/Macau:20260109T120000
DTSTAMP:20260424T182432
CREATED:20260105T034341Z
LAST-MODIFIED:20260227T034857Z
UID:42416-1767956400-1767960000@www.fst.um.edu.mo
SUMMARY:FST MO-HQ Distinguished Talk Series - Dynamic Real-Time Optimization over Infinite HorizonsSpeaker: Prof. Lorenz T BIEGLER from Carnegie Mellon UniversityHosted by: Prof. Feng WAN
DESCRIPTION:Talk Review 活動回顧\nThe Faculty of Science and Technology of the University of Macau hosted Prof. Lorenz T. Biegler\, U.S. National Academy of Engineering member and Carnegie Mellon professor\, for a seminar on “Dynamic Real-Time Optimization over Infinite Horizons” on 9 January. \nProf. Biegler presented a breakthrough in Economic Nonlinear Model Predictive Control (eNMPC)\, enabling real-time optimization of industrial processes over an infinite time horizon. Traditional eNMPC uses finite horizons with artificial constraints that compromise long-term economic performance. His new method applies a time-transformation technique to convert the infinite problem into a solvable finite form—retaining stability while maximizing true operational objectives. \nThe approach has been successfully tested on chemical reactors\, power systems\, and energy storage\, delivering smoother control\, higher efficiency\, and reduced wear. It aligns control actions with actual economic goals rather than short-term proxies. \nThe talk\, part of the FST MO-HQ Distinguished Seminar Series and hosted by Prof. Feng Wan\, drew strong interest from faculty and students in engineering and applied sciences. Attendees praised its blend of theoretical innovation and industrial relevance. \nA leading figure in process systems engineering\, Prof. Biegler is a Fellow of AIChE\, IFAC\, and SIAM\, with over 600 publications. His work continues to shape how industries implement intelligent\, sustainable automation. This infinite-horizon framework represents a major step toward smarter\, more economically optimal control systems—offering significant potential for green manufacturing and resilient energy infrastructure. \n澳門大學科技學院於1月9日邀請美國國家工程院院士、卡內基梅隆大學教授洛倫茨·T·比格勒（Lorenz T. Biegler）舉行題為「無限時域動態實時優化」的講座。 \nBiegler教授介紹了經濟型非線性模型預測控制（eNMPC）領域的一項突破：實現工業過程在無限時間範圍內的實時優化。傳統eNMPC採用有限時域並引入人為約束，往往損害長期經濟效益；而他的新方法運用時間變換技術，將無限問題轉化為可求解的有限形式，在確保系統穩定性的同時，最大化真實運營目標。 \n該方法已在化學反應器、電力系統及儲能裝置中成功驗證，實現更平穩的控制、更高效率與更低設備磨損，使控制策略真正契合經濟目標，而非僅追求短期指標。 \n本次講座為科技學院傑出講座系列之一，由萬峰教授主持，吸引了眾多工程與應用科學領域的師生參與。與會者高度評價其理論創新與工業應用價值的緊密結合。 \n作為過程系統工程領域的權威，Biegler教授是美國化學工程師學會（AIChE）、國際自動控制聯合會（IFAC）及工業與應用數學學會（SIAM）會士，發表論文逾600篇。其研究持續推動產業邁向智能化與可持續自動化。此無限時域框架標誌著邁向更智能、經濟效益更優的控制系統的重要一步，對綠色製造與韌性能源基礎設施具有廣闊應用前景。 \nProf Wan Feng introduced Prof Biegler Prof. Lorenz T. Biegler delivered talk at UM FST Prof Gong presented the souvenir to Prof Biegler
URL:https://www.fst.um.edu.mo/event/fst-mo-hq-distinguished-talk-seriesdynamic-real-time-optimization-over-infinite-horizons/
LOCATION:E11-G015
CATEGORIES:1to3_events,ece_events,event_list,seminarslectures
ATTACH;FMTTYPE=image/jpeg:https://www.fst.um.edu.mo/wp-content/uploads/2026/01/seminar20260109.jpg
END:VEVENT
END:VCALENDAR