BEGIN:VCALENDAR
VERSION:2.0
PRODID:-//Faculty of Science and Technology | University of Macau - ECPv6.14.2//NONSGML v1.0//EN
CALSCALE:GREGORIAN
METHOD:PUBLISH
X-WR-CALNAME:Faculty of Science and Technology | University of Macau
X-ORIGINAL-URL:https://www.fst.um.edu.mo
X-WR-CALDESC:Events for Faculty of Science and Technology | University of Macau
REFRESH-INTERVAL;VALUE=DURATION:PT1H
X-Robots-Tag:noindex
X-PUBLISHED-TTL:PT1H
BEGIN:VTIMEZONE
TZID:Asia/Macau
BEGIN:STANDARD
TZOFFSETFROM:+0800
TZOFFSETTO:+0800
TZNAME:CST
DTSTART:20240101T000000
END:STANDARD
END:VTIMEZONE
BEGIN:VEVENT
DTSTART;TZID=Asia/Macau:20240708T090000
DTEND;TZID=Asia/Macau:20240719T173000
DTSTAMP:20260426T095932
CREATED:20240617T041654Z
LAST-MODIFIED:20240617T043402Z
UID:34585-1720429200-1721410200@www.fst.um.edu.mo
SUMMARY:隴上行數學文化之旅（第四期）夏令營現接受報名
DESCRIPTION:海報 \nPoster簡介 \nIntroduction報名條件及方式 \nRequirements and \napplication活動日程 (暫定) \nTentative Schedule費用 \nFee查詢及報名 \nInquiry海報 \nPoster\n \n簡介 \nIntroduction\n\n  \n“隴上行數學文化之旅（第四期）夏令營” \n夏令營由蘭州大學及香港理工大學、澳門大學共同舉辦，計畫執行以數學文化、學術交流實踐為主，將在蘭州大學分階段展開。第一階段線上交流從2024年7月8日開始至7月14日結束，共7天；第二階段線下交流從2024年7月15 日開始至7月19日結束，共5天，兩個階段合計12天。 \n中華民族曾經創造過燦爛輝煌的文明，現代科技包括大數據科學、深度學習正在蓬勃發展，日新月異，它們都離不開數學的創造與發展。為了回應國務院《關於全面加強基礎科學研究的若干意見》和國家四部委聯合通知《關於加強數學科學研究工作方案》，本計畫主題設定為隴上行數學文化之旅，著重數學文化的學習與交流。 計畫緊密結合「一帶一路」倡議，依托蘭州在西北「絲綢之路經濟帶」中重要的戰略位置，組織港澳和大陸青年學生共同參與項目，讓兩地學生充分認識並了解「絲路經濟帶」的歷史，數學文化以及兩地數學研究現狀。透過舉辦短期專業課程、教學經驗交流、專題講座（介紹數學歷史，汲取和傳承數學文化中的經典思想、精神和方法，了解「絲綢之路經濟帶」建設的新局面，了解世界級難題的解決方案等內容），參觀絲綢之路極具歷史意義的博物館，與取得國家重大科技和建設成果的科研機構座談，領略蘭州風情和特色文化，讓學生在學習數學文化和探索專業前沿的同時，加深對「絲路經濟帶」宏觀認識，提升對國家歷史文化的正確認識與了解。透過開設短課程和專題講座將兩岸學生聚在一起學習，共同暢談學術文化，探索數學文化淵源，突顯西部研究特色，讓港澳大學生深切感受甘肅省一流高校和領軍科研機構所具有的獨特學術魅力，同時加深彼此了解，增進兩岸師生情誼，建立科研合作與交叉。 \n夏令營將接收香港理工大學和澳門大學各 25 名同學，共 50 名港澳學生，其中大學部學生28人，研究生22人。旨在透過本次活動，讓港澳和內地學生了解「一帶一路」國家重要的戰略規劃，從西北內陸省份充分了解「絲綢之路經濟帶」的關鍵地位和作用，了解西部歷史，感受數學文化，讓港澳師生有機會親身感受甘肅省全國一流大學文化與風土人情，同時增進兩地師生的文化交流，為今後進一步的學術交流與科研合作提供良好的契機。 \n活動詳情 \n  \n  \n報名條件及方式 \nRequirements and \napplication\n \n報名條件：\n香港理工大學及澳門大學全日制學生(持澳門或香港居民證及回鄉證者優先，不包含交流生及於活動結束前修業完成的應屆畢業生)、\n在籍碩士/博士研究生（不含應屆畢業生）。\n\n報名方法及查詢：電郵澳大劉志教授(liuzhi@um.edu.mo)及羅小姐(Priscillalo@um.edu.mo)\n報名截止：2024年 7 月 1日 (星期一)\n\n\n  \n  \n  \n  \n  \n  \n活動日程 (暫定) \nTentative Schedule\n  \n\n線上活動: 前沿學術報告； 教學名師講授； 專案內容： 短期專業課程：《數值優化引論》、《統計機器學習簡介》、《 演算法與程式的奧秘》等。 \n線下活動: 專業經驗分享報告； 參觀蘭州國家重點科研院所； 參觀甘肅省博物館、敦煌藝術館； 黃河第一鐵橋、黃河岸邊徒步競走； 三地結營破冰之旅、交流會等。\n點擊以了解更多活動詳情\n\n日期: 2024 年7月8日至7月14日（線上） 项目日期： 2024 年7月15日至7月19日（線下）\n語言:中文\n  \n  \n  \n  \n  \n費用 \nFee\n \n1、本項目不設申請費用。 \n2、受惠於“2024年內地與港澳高等學校師生交流計畫項目”，符合以上申請資格的港澳大學生可透過全球事務部報名參與計畫。如獲主辦院校錄取，在活動期間的住宿費、當地交通費、餐費以及參觀遊覽項目等費用可獲豁免。 \n3. 學生需支付並自行安排： (1)往來活動地點的旅費、(2) 保險以及 (3) 個人消費。 \n  \n查詢及報名 \nInquiry\n \n報名及查詢: \n澳大劉志教授(liuzhi@um.edu.mo)及羅小姐(Priscillalo@um.edu.mo) \n 
URL:https://www.fst.um.edu.mo/event/mathematical-culture-tour-4th-phase-summer-camp-is-now-accepting-registration/
LOCATION:蘭州
CATEGORIES:activities,Event,event_list,math_events
ATTACH;FMTTYPE=image/jpeg:https://www.fst.um.edu.mo/wp-content/uploads/2024/06/123-01-scaled.jpg
END:VEVENT
BEGIN:VEVENT
DTSTART;VALUE=DATE:20240710
DTEND;VALUE=DATE:20240728
DTSTAMP:20260426T095932
CREATED:20240506T013423Z
LAST-MODIFIED:20240506T013451Z
UID:34268-1720569600-1722124799@www.fst.um.edu.mo
SUMMARY:Summer Camp 2024
DESCRIPTION:
URL:/academics/summer-camp/summer-camp-2024/
CATEGORIES:activities,event_list
ATTACH;FMTTYPE=image/jpeg:https://www.fst.um.edu.mo/wp-content/uploads/2024/05/UMFST-Summer-Camp-2024-Flyer.jpg
END:VEVENT
END:VCALENDAR