BEGIN:VCALENDAR
VERSION:2.0
PRODID:-//Faculty of Science and Technology | University of Macau - ECPv6.14.2//NONSGML v1.0//EN
CALSCALE:GREGORIAN
METHOD:PUBLISH
X-WR-CALNAME:Faculty of Science and Technology | University of Macau
X-ORIGINAL-URL:https://www.fst.um.edu.mo
X-WR-CALDESC:Events for Faculty of Science and Technology | University of Macau
REFRESH-INTERVAL;VALUE=DURATION:PT1H
X-Robots-Tag:noindex
X-PUBLISHED-TTL:PT1H
BEGIN:VTIMEZONE
TZID:Asia/Macau
BEGIN:STANDARD
TZOFFSETFROM:+0800
TZOFFSETTO:+0800
TZNAME:CST
DTSTART:20240101T000000
END:STANDARD
END:VTIMEZONE
BEGIN:VEVENT
DTSTART;TZID=Asia/Macau:20241016T160000
DTEND;TZID=Asia/Macau:20241016T164500
DTSTAMP:20260426T001600
CREATED:20241003T093222Z
LAST-MODIFIED:20251125T031924Z
UID:35758-1729094400-1729097100@www.fst.um.edu.mo
SUMMARY:Identification of an unknown source in urban atmospheric environment by adjoint methodSpeaker: Dr. Hongyuan JIA from The University of TokyoHosted by: Prof. Wanhuan ZHOU
DESCRIPTION:
URL:https://www.fst.um.edu.mo/event/identification-of-an-unknown-source-in-urban-atmospheric-environment-by-adjoint-method/
LOCATION:E11-G015
CATEGORIES:cee_events,event_list,seminarslectures
ATTACH;FMTTYPE=image/jpeg:https://www.fst.um.edu.mo/wp-content/uploads/2024/10/20241016_CEE_Seminar.jpg
END:VEVENT
END:VCALENDAR