BEGIN:VCALENDAR
VERSION:2.0
PRODID:-//Faculty of Science and Technology | University of Macau - ECPv6.14.2//NONSGML v1.0//EN
CALSCALE:GREGORIAN
METHOD:PUBLISH
X-WR-CALNAME:Faculty of Science and Technology | University of Macau
X-ORIGINAL-URL:https://www.fst.um.edu.mo
X-WR-CALDESC:Events for Faculty of Science and Technology | University of Macau
REFRESH-INTERVAL;VALUE=DURATION:PT1H
X-Robots-Tag:noindex
X-PUBLISHED-TTL:PT1H
BEGIN:VTIMEZONE
TZID:Asia/Macau
BEGIN:STANDARD
TZOFFSETFROM:+0800
TZOFFSETTO:+0800
TZNAME:CST
DTSTART:20260101T000000
END:STANDARD
END:VTIMEZONE
BEGIN:VEVENT
DTSTART;TZID=Asia/Macau:20260204T150000
DTEND;TZID=Asia/Macau:20260204T160000
DTSTAMP:20260425T185623
CREATED:20260116T042507Z
LAST-MODIFIED:20260116T042507Z
UID:42652-1770217200-1770220800@www.fst.um.edu.mo
SUMMARY:FSTSA Industry Talk Series - Career Path and Job Opportunity in Macao Light Transit Corporation
DESCRIPTION: 
URL:https://www.fst.um.edu.mo/event/fstsa-industry-talk-series-career-path-and-job-opportunity-in-macao-light-transit-corporation/
LOCATION:E11-G015
CATEGORIES:event_list,seminarslectures
ATTACH;FMTTYPE=image/jpeg:https://www.fst.um.edu.mo/wp-content/uploads/2026/01/seminar20260204.jpg
END:VEVENT
END:VCALENDAR