BEGIN:VCALENDAR
VERSION:2.0
PRODID:-//Faculty of Science and Technology | University of Macau - ECPv6.14.2//NONSGML v1.0//EN
CALSCALE:GREGORIAN
METHOD:PUBLISH
X-ORIGINAL-URL:https://www.fst.um.edu.mo
X-WR-CALDESC:Events for Faculty of Science and Technology | University of Macau
REFRESH-INTERVAL;VALUE=DURATION:PT1H
X-Robots-Tag:noindex
X-PUBLISHED-TTL:PT1H
BEGIN:VTIMEZONE
TZID:Asia/Macau
BEGIN:STANDARD
TZOFFSETFROM:+0800
TZOFFSETTO:+0800
TZNAME:CST
DTSTART:20260101T000000
END:STANDARD
END:VTIMEZONE
BEGIN:VEVENT
DTSTART;TZID=Asia/Macau:20260427T103000
DTEND;TZID=Asia/Macau:20260427T113000
DTSTAMP:20260425T185626
CREATED:20260420T091400Z
LAST-MODIFIED:20260420T091400Z
UID:43913-1777285800-1777289400@www.fst.um.edu.mo
SUMMARY:The Kohn Laplacian\, Magnetic Schrodinger operators\, and Powers of Holomorphic Line bundles
DESCRIPTION: 
URL:https://www.fst.um.edu.mo/event/the-kohn-laplacian-magnetic-schrodinger-operators-and-powers-of-holomorphic-line-bundles/
LOCATION:E11-G012\, Macau
CATEGORIES:event_list,math_events,seminarslectures
ATTACH;FMTTYPE=image/jpeg:https://www.fst.um.edu.mo/wp-content/uploads/2026/04/The-Kohn-Laplacian-Magnetic-Schrodinger-operators-and-Powers-of-Holomorphic-Line-bundles.jpg
END:VEVENT
END:VCALENDAR